BEGIN:VCALENDAR
VERSION:2.0
PRODID:-//HB9SOTA - ECPv6.15.20//NONSGML v1.0//EN
CALSCALE:GREGORIAN
METHOD:PUBLISH
X-ORIGINAL-URL:https://hb9sota.ch/fr/
X-WR-CALDESC:Évènements pour HB9SOTA
REFRESH-INTERVAL;VALUE=DURATION:PT1H
X-Robots-Tag:noindex
X-PUBLISHED-TTL:PT1H
BEGIN:VTIMEZONE
TZID:Europe/Zurich
BEGIN:DAYLIGHT
TZOFFSETFROM:+0100
TZOFFSETTO:+0200
TZNAME:CEST
DTSTART:20250330T010000
END:DAYLIGHT
BEGIN:STANDARD
TZOFFSETFROM:+0200
TZOFFSETTO:+0100
TZNAME:CET
DTSTART:20251026T010000
END:STANDARD
BEGIN:DAYLIGHT
TZOFFSETFROM:+0100
TZOFFSETTO:+0200
TZNAME:CEST
DTSTART:20260329T010000
END:DAYLIGHT
BEGIN:STANDARD
TZOFFSETFROM:+0200
TZOFFSETTO:+0100
TZNAME:CET
DTSTART:20261025T010000
END:STANDARD
BEGIN:DAYLIGHT
TZOFFSETFROM:+0100
TZOFFSETTO:+0200
TZNAME:CEST
DTSTART:20270328T010000
END:DAYLIGHT
BEGIN:STANDARD
TZOFFSETFROM:+0200
TZOFFSETTO:+0100
TZNAME:CET
DTSTART:20271031T010000
END:STANDARD
END:VTIMEZONE
BEGIN:VEVENT
DTSTART;TZID=Europe/Zurich:20260509T093000
DTEND;TZID=Europe/Zurich:20260509T153000
DTSTAMP:20260419T185941
CREATED:20260419T072819Z
LAST-MODIFIED:20260419T090132Z
UID:12181-1778319000-1778340600@hb9sota.ch
SUMMARY:HB9SOTA Assemblée générale 2026
DESCRIPTION:
URL:https://hb9sota.ch/fr/event/hb9sota-assemblee-generale-2026/
LOCATION:Hotel-Restaurant Engel\, Stans\, Dorfplatz 1\, Stans\, 6370\, Switzerland
END:VEVENT
END:VCALENDAR