BEGIN:VCALENDAR
VERSION:2.0
PRODID:-//HB9SOTA - ECPv6.15.20//NONSGML v1.0//EN
CALSCALE:GREGORIAN
METHOD:PUBLISH
X-WR-CALNAME:HB9SOTA
X-ORIGINAL-URL:https://hb9sota.ch/en/
X-WR-CALDESC:Events for HB9SOTA
REFRESH-INTERVAL;VALUE=DURATION:PT1H
X-Robots-Tag:noindex
X-PUBLISHED-TTL:PT1H
BEGIN:VTIMEZONE
TZID:Europe/Zurich
BEGIN:DAYLIGHT
TZOFFSETFROM:+0100
TZOFFSETTO:+0200
TZNAME:CEST
DTSTART:20250330T010000
END:DAYLIGHT
BEGIN:STANDARD
TZOFFSETFROM:+0200
TZOFFSETTO:+0100
TZNAME:CET
DTSTART:20251026T010000
END:STANDARD
BEGIN:DAYLIGHT
TZOFFSETFROM:+0100
TZOFFSETTO:+0200
TZNAME:CEST
DTSTART:20260329T010000
END:DAYLIGHT
BEGIN:STANDARD
TZOFFSETFROM:+0200
TZOFFSETTO:+0100
TZNAME:CET
DTSTART:20261025T010000
END:STANDARD
BEGIN:DAYLIGHT
TZOFFSETFROM:+0100
TZOFFSETTO:+0200
TZNAME:CEST
DTSTART:20270328T010000
END:DAYLIGHT
BEGIN:STANDARD
TZOFFSETFROM:+0200
TZOFFSETTO:+0100
TZNAME:CET
DTSTART:20271031T010000
END:STANDARD
END:VTIMEZONE
BEGIN:VEVENT
DTSTART;VALUE=DATE:20260815
DTEND;VALUE=DATE:20260816
DTSTAMP:20260420T002404
CREATED:20260419T085920Z
LAST-MODIFIED:20260419T091740Z
UID:12235-1786752000-1786838399@hb9sota.ch
SUMMARY:Summer hike 1
DESCRIPTION:Choice of summit e.g. \n\nSelibüel HB/BE-151\nGantrisch HB/BE-115\nBürgle HB/BE-120\nand more\n\nRestaurant for the meeting t.b.d. \nAlternative date 29.08.2026 (in case of bad weather on 15.08.)
URL:https://hb9sota.ch/en/event/summer-hike-1/
LOCATION:Naturpark Gantrisch
END:VEVENT
BEGIN:VEVENT
DTSTART;VALUE=DATE:20260822
DTEND;VALUE=DATE:20260823
DTSTAMP:20260420T002404
CREATED:20260419T090311Z
LAST-MODIFIED:20260419T090311Z
UID:12256-1787356800-1787443199@hb9sota.ch
SUMMARY:Summer hike 2
DESCRIPTION:Summit selection: \n\nRossstock HB/SZ-006\nFulen HB/SZ-005\nChaiserstock HB/SZ-003\nDiepen HB/UR-063\n\nArrival by cable car Chäppeliberg-Spilau possible (long waiting times if crowded). \nRestaurant for the meeting t.b.d. \nAlternative date: 05.09.2026 (in case of bad weather on 22.08.)
URL:https://hb9sota.ch/en/event/summer-hike-2/
LOCATION:Lidernenhütte
END:VEVENT
END:VCALENDAR