BEGIN:VCALENDAR
VERSION:2.0
PRODID:-//HB9SOTA - ECPv6.15.20//NONSGML v1.0//EN
CALSCALE:GREGORIAN
METHOD:PUBLISH
X-WR-CALNAME:HB9SOTA
X-ORIGINAL-URL:https://hb9sota.ch
X-WR-CALDESC:Veranstaltungen im HB9SOTA
REFRESH-INTERVAL;VALUE=DURATION:PT1H
X-Robots-Tag:noindex
X-PUBLISHED-TTL:PT1H
BEGIN:VTIMEZONE
TZID:Europe/Zurich
BEGIN:DAYLIGHT
TZOFFSETFROM:+0100
TZOFFSETTO:+0200
TZNAME:CEST
DTSTART:20250330T010000
END:DAYLIGHT
BEGIN:STANDARD
TZOFFSETFROM:+0200
TZOFFSETTO:+0100
TZNAME:CET
DTSTART:20251026T010000
END:STANDARD
BEGIN:DAYLIGHT
TZOFFSETFROM:+0100
TZOFFSETTO:+0200
TZNAME:CEST
DTSTART:20260329T010000
END:DAYLIGHT
BEGIN:STANDARD
TZOFFSETFROM:+0200
TZOFFSETTO:+0100
TZNAME:CET
DTSTART:20261025T010000
END:STANDARD
BEGIN:DAYLIGHT
TZOFFSETFROM:+0100
TZOFFSETTO:+0200
TZNAME:CEST
DTSTART:20270328T010000
END:DAYLIGHT
BEGIN:STANDARD
TZOFFSETFROM:+0200
TZOFFSETTO:+0100
TZNAME:CET
DTSTART:20271031T010000
END:STANDARD
END:VTIMEZONE
BEGIN:VEVENT
DTSTART;VALUE=DATE:20260815
DTEND;VALUE=DATE:20260816
DTSTAMP:20260420T024550
CREATED:20260419T085920Z
LAST-MODIFIED:20260419T091749Z
UID:12230-1786752000-1786838399@hb9sota.ch
SUMMARY:Sommerwanderung 1
DESCRIPTION:Gipfelauswahl z.B. \n\nSelibüel HB/BE-151\nGantrisch HB/BE-115\nBürgle HB/BE-120\nund weitere\n\nRestaurant fürs Treffen t.b.d. \nErsatzdatum 29.08.2026 (bei schlechtem Wetter am 15.08.)
URL:https://hb9sota.ch/event/sommerwanderung-1/
LOCATION:Naturpark Gantrisch
END:VEVENT
BEGIN:VEVENT
DTSTART;VALUE=DATE:20260822
DTEND;VALUE=DATE:20260823
DTSTAMP:20260420T024550
CREATED:20260419T090311Z
LAST-MODIFIED:20260419T091010Z
UID:12239-1787356800-1787443199@hb9sota.ch
SUMMARY:Sommerwanderung 2
DESCRIPTION:Gipfelauswahl: \n\nRossstock HB/SZ-006\nFulen HB/SZ-005\nChaiserstock HB/SZ-003\nDiepen HB/UR-063\n\nAnreise mit Luftseilbahn Chäppeliberg-Spilau möglich (bei grossem Andrang lange Wartezeiten). \nRestaurant fürs Treffen t.b.d. \nErsatzdatum: 05.09.2026 (bei schlechtem Wetter am 22.08.)
URL:https://hb9sota.ch/event/sommerwanderung-2/
LOCATION:Lidernenhütte
END:VEVENT
BEGIN:VEVENT
DTSTART;VALUE=DATE:20261031
DTEND;VALUE=DATE:20261101
DTSTAMP:20260420T024550
CREATED:20260419T090611Z
LAST-MODIFIED:20260419T090648Z
UID:12243-1793404800-1793491199@hb9sota.ch
SUMMARY:Surplus Party
DESCRIPTION:
URL:https://hb9sota.ch/event/surplus-party/
LOCATION:Mehrzweckhalle Zofingen\, Strengelbacherstrasse 27C\, Zofingen\, 4800
END:VEVENT
END:VCALENDAR